BEGIN:VCALENDAR
VERSION:2.0
PRODID:SchoolNow
CALSCALE:GREGORIAN
BEGIN:VEVENT
UID:e645de12-d2ab-11ef-88f8-0a58a9feac02
DTSTAMP:20250114T191521Z
SUMMARY:PreK Registration: Sudduth Elementary
DESCRIPTION:Begin your child's learning with a #StarkvilleSpark! Pre-K Regi
 stration for Sudduth and West Elementary will open January 28-30 with on-s
 ite registration at both campuses. To complete registration\, parents must
  complete an online registration form\, provide all required documents in 
 person and sign up for a screening time during our registration days.\n\nS
 UDDUTH ELEMENTARY:\nJanuary 28 -- 9am- 1pm\nJanuary 29 -- 7am- 10am\nJanua
 ry 30 -- 3pm- 6pm\n\nWEST ELEMENTARY:\nJanuary 28-30 -- During school hour
 s\n\nFor more information about the SOCSD PreK program and requirements\, 
 visit www.starkvillesd.com/prek
LOCATION:Sudduth Elementary
URL;VALUE=URI:https://www.starkvillesd.com/sudduth-elementary/calendar/7315
 528/prek-registration-sudduth-elementary
DTSTART:20250128T150000Z
DTEND:20250128T190000Z
END:VEVENT
END:VCALENDAR
