BEGIN:VCALENDAR
VERSION:2.0
PRODID:SchoolNow
CALSCALE:GREGORIAN
BEGIN:VEVENT
UID:04591cca-d2ac-11ef-9a89-0afff5cae5c7
DTSTAMP:20250114T191612Z
SUMMARY:PreK Registration: Sudduth Elementary
DESCRIPTION:Begin your child's learning with a #StarkvilleSpark! Pre-K Regi
 stration for Sudduth and West Elementary will open January 28-30 with on-s
 ite registration at both campuses. To complete registration\, parents must
  complete an online registration form\, provide all required documents in 
 person and sign up for a screening time during our registration days.\n\nS
 UDDUTH ELEMENTARY:\nJanuary 28 -- 9am- 1pm\nJanuary 29 -- 7am- 10am\nJanua
 ry 30 -- 3pm- 6pm\n\nWEST ELEMENTARY:\nJanuary 28-30 -- During school hour
 s\n\nFor more information about the SOCSD PreK program and requirements\, 
 visit www.starkvillesd.com/prek
LOCATION:Sudduth Elementary
URL;VALUE=URI:https://www.starkvillesd.com/sudduth-elementary/calendar/7315
 530/prek-registration-sudduth-elementary-clone-clone
DTSTART:20250130T210000Z
DTEND:20250131T000000Z
END:VEVENT
END:VCALENDAR
