BEGIN:VCALENDAR
VERSION:2.0
PRODID:SchoolNow
CALSCALE:GREGORIAN
BEGIN:VEVENT
UID:f1592116-efa6-11ef-b2fc-0a58a9feac02
DTSTAMP:20250220T162256Z
SUMMARY:Sudduth Elementary Kindergarten Open House
DESCRIPTION:Sudduth Elementary Kindergarten Open House\n(for parents and ri
 sing kindergarteners)\nTuesday\, March 4\n4:00pm - 6:00pm\n​​​​​
 ​​Sudduth Elementary School\n\nSee how our youngest Jackets expect exc
 ellence every day! Join us for Open House to meet our teachers\, visit our
  classrooms\, ask questions and more!
LOCATION:Sudduth Elementary
URL;VALUE=URI:https://www.starkvillesd.com/sudduth-elementary/calendar/7509
 360/sudduth-elementary-kindergarten-open-house
DTSTART:20250304T220000Z
DTEND:20250305T000000Z
END:VEVENT
END:VCALENDAR
