BEGIN:VCALENDAR
VERSION:2.0
PRODID:SchoolNow
CALSCALE:GREGORIAN
BEGIN:VEVENT
UID:6aec19dc-5764-11f0-a046-0a58a9feac02
DTSTAMP:20250702T172011Z
SUMMARY:Sudduth: 2025-2026 Teacher Assignment Pickup
DESCRIPTION:Thursday\, July 10\, 2025\nTeacher Assignment Pick-up\n7:00am -
  12:00pm & 2:00pm - 5:00pm\nSudduth Gym\n\nDuring Teacher Assignment Pick-
 up\, parents will have the opportunity to sign-up for a time slot to atten
 d Open House.
LOCATION:Sudduth Elementary
URL;VALUE=URI:https://www.starkvillesd.com/sudduth-elementary/calendar/8377
 541/sudduth-2025-2026-teacher-assignment-pickup
DTSTART:20250710T120000Z
DTEND:20250710T170000Z
END:VEVENT
END:VCALENDAR
