BEGIN:VCALENDAR
VERSION:2.0
PRODID:SchoolNow
CALSCALE:GREGORIAN
BEGIN:VEVENT
UID:7f037b7c-5764-11f0-a2cd-0e2994befe05
DTSTAMP:20250702T172033Z
SUMMARY:Sudduth: 2025-2026 Teacher Assignment Pickup
DESCRIPTION:Thursday\, July 10\, 2025\nTeacher Assignment Pick-up\n7:00am -
  12:00pm & 2:00pm - 5:00pm\nSudduth Gym\n\nDuring Teacher Assignment Pick-
 up\, parents will have the opportunity to sign-up for a time slot to atten
 d Open House.
LOCATION:Sudduth Elementary
URL;VALUE=URI:https://www.starkvillesd.com/sudduth-elementary/calendar/8377
 544/sudduth-2025-2026-teacher-assignment-pickup-clone
DTSTART:20250710T190000Z
DTEND:20250710T220000Z
END:VEVENT
END:VCALENDAR
