BEGIN:VCALENDAR
VERSION:2.0
PRODID:SchoolNow
CALSCALE:GREGORIAN
BEGIN:VEVENT
UID:c0e92b7c-5764-11f0-9b49-0e8e356708a9
DTSTAMP:20250702T165109Z
SUMMARY:Sudduth: 2025-2026 Open House
DESCRIPTION:Thursday\, July 17\, 2025\nOpen House\n7:30am - 1:00pm\n2:00pm 
 - 3:30pm\n*By appointment only. Parents may sign up for a time during Teac
 her Assignment Pickup on July 10
LOCATION:Sudduth Elementary
URL;VALUE=URI:https://www.starkvillesd.com/sudduth-elementary/calendar/8377
 547/sudduth-2025-2026-open-house
DTSTART:20250717T123000Z
DTEND:20250717T180000Z
END:VEVENT
END:VCALENDAR
