BEGIN:VCALENDAR
VERSION:2.0
PRODID:SchoolNow
CALSCALE:GREGORIAN
BEGIN:VEVENT
UID:dd7c4abc-5764-11f0-93bf-0a58a9feac02
DTSTAMP:20250702T165157Z
SUMMARY:Sudduth: 2025-2026 Open House
DESCRIPTION:Thursday\, July 17\, 2025\nOpen House\n7:30am - 1:00pm\n2:00pm 
 - 3:30pm\n*By appointment only. Parents may sign up for a time during Teac
 her Assignment Pickup on July 10
LOCATION:Sudduth Elementary
URL;VALUE=URI:https://www.starkvillesd.com/sudduth-elementary/calendar/8377
 550/sudduth-2025-2026-open-house-clone
DTSTART:20250717T190000Z
DTEND:20250717T203000Z
END:VEVENT
END:VCALENDAR
