BEGIN:VCALENDAR
VERSION:2.0
PRODID:SchoolNow
CALSCALE:GREGORIAN
BEGIN:VEVENT
UID:275d86a8-2e82-11ef-b00d-0a58a9feac02
DTSTAMP:20240619T232729Z
SUMMARY:Partnership Middle School: Open House 2024-2025
DESCRIPTION:Partnership Middle School\n\nOpen House\n\n7th Grade: 9:00am - 
 11:00am\n6th Grade: 12:00pm - 3:00pm
LOCATION:Partnership Middle School
URL;VALUE=URI:https://www.starkvillesd.com/the-partnership-school/calendar/
 6144984/partnership-middle-school-open-house
DTSTART:20240718T140000Z
DTEND:20240718T200000Z
END:VEVENT
END:VCALENDAR
