BEGIN:VCALENDAR
VERSION:2.0
PRODID:SchoolNow
CALSCALE:GREGORIAN
BEGIN:VEVENT
UID:96f61d52-2e93-11ef-8c2d-0ee16e82ab5f
DTSTAMP:20240619T232809Z
SUMMARY:Partnership Middle School: Schedule Pickup 2024-2025
LOCATION:Partnership Middle School
URL;VALUE=URI:https://www.starkvillesd.com/the-partnership-school/calendar/
 6145008/partnership-middle-school-schedule-pickup-2024-2025
DTSTART:20240715T140000Z
DTEND:20240715T190000Z
END:VEVENT
END:VCALENDAR
