BEGIN:VCALENDAR
VERSION:2.0
PRODID:SchoolNow
CALSCALE:GREGORIAN
BEGIN:VEVENT
UID:3fec9e42-37de-11ef-b9b0-0affe900a1ff
DTSTAMP:20240701T191516Z
SUMMARY:Jacket Swim: Tryouts (for rising 7th-12th graders)
LOCATION:Sanderson Center Pool at MSU
URL;VALUE=URI:https://www.starkvillesd.com/the-partnership-school/calendar/
 6194233/jacket-swim-tryouts-for-rising-7th-12th-graders
DTSTART:20240802T220000Z
DTEND:20240802T230000Z
END:VEVENT
END:VCALENDAR
