BEGIN:VCALENDAR
VERSION:2.0
PRODID:SchoolNow
CALSCALE:GREGORIAN
BEGIN:VEVENT
UID:7e89c4da-4ac7-11ef-866e-0affe3e46b79
DTSTAMP:20240725T205015Z
SUMMARY:Jacket Golf: Boys & Girls Makeup Tryouts
DESCRIPTION:Jacket Boys & Girls Golf Makeup Tryouts\n\n(for current 7th-12t
 h graders)\n\nJuly 30\n\n4:15pm - 5:15pm\n\nStarkville Country Club\n\nStu
 dents who wish to tryout should have all paperwork completed in DragonFly.
LOCATION:Starkville Country Club
URL;VALUE=URI:https://www.starkvillesd.com/the-partnership-school/calendar/
 6309559/jacket-golf-boys-girls-makeup-tryouts
DTSTART:20240730T211500Z
DTEND:20240730T221500Z
END:VEVENT
END:VCALENDAR
