BEGIN:VCALENDAR
VERSION:2.0
PRODID:SchoolNow
CALSCALE:GREGORIAN
BEGIN:VEVENT
UID:7f3168e6-7c1f-11ef-833f-0e3621fc656d
DTSTAMP:20240926T155339Z
SUMMARY:Parent Engagement Event: Artificial Intelligence
LOCATION:Partnership Middle School
URL;VALUE=URI:https://www.starkvillesd.com/the-partnership-school/calendar/
 6694834/parent-engagement-event-artificial-intelligence
DTSTART:20240930T221500Z
DTEND:20240930T231500Z
END:VEVENT
END:VCALENDAR
