BEGIN:VCALENDAR
VERSION:2.0
PRODID:SchoolNow
CALSCALE:GREGORIAN
BEGIN:VEVENT
UID:d8a4175e-8280-11ef-b286-0a58a9feac02
DTSTAMP:20241004T184537Z
SUMMARY:Jacket Basketball: Boys JV Makeup Tryouts (for 7th-9th grade new & 
 transfer boys)
LOCATION:HWS Gym
URL;VALUE=URI:https://www.starkvillesd.com/the-partnership-school/calendar/
 6757965/jacket-basketball-boys-jv-makeup-tryouts-for-7th-9th-grade-new-tra
 nsfer-boys-clone
DTSTART:20241008T211500Z
DTEND:20241009T003000Z
END:VEVENT
END:VCALENDAR
