BEGIN:VCALENDAR
VERSION:2.0
PRODID:SchoolNow
CALSCALE:GREGORIAN
BEGIN:VEVENT
UID:ec0e7500-8280-11ef-b982-0a58a9feac02
DTSTAMP:20241004T184609Z
SUMMARY:Jacket Basketball: Boys JV Makeup Tryouts (for 7th-9th grade new & 
 transfer boys)
LOCATION:HWS Gym
URL;VALUE=URI:https://www.starkvillesd.com/the-partnership-school/calendar/
 6757970/jacket-basketball-boys-jv-makeup-tryouts-for-7th-9th-grade-new-tra
 nsfer-boys-clone-clone
DTSTART:20241009T211500Z
DTEND:20241010T003000Z
END:VEVENT
END:VCALENDAR
