BEGIN:VCALENDAR
VERSION:2.0
PRODID:SchoolNow
CALSCALE:GREGORIAN
BEGIN:VEVENT
UID:37d4ddde-b0cc-11ef-bead-0a58a9feac02
DTSTAMP:20241202T164102Z
SUMMARY:Winter Concert: Partnership & Armstrong Singers
LOCATION:Bridgeway Church
URL;VALUE=URI:https://www.starkvillesd.com/the-partnership-school/calendar/
 7110256/winter-concert-partnership-armstrong-singers
DTSTART:20241206T000000Z
DTEND:20241206T010000Z
END:VEVENT
END:VCALENDAR
