BEGIN:VCALENDAR
VERSION:2.0
PRODID:SchoolNow
CALSCALE:GREGORIAN
BEGIN:VEVENT
UID:a1b40158-b0cc-11ef-98f8-0ee665cad799
DTSTAMP:20241202T165441Z
SUMMARY:Winter Concert: Partnership & Armstrong Bands
DESCRIPTION:6:00pm -- 6th Grade Band\n\n7:00pm -- 7th-8th Grade Band
LOCATION:Armstrong Junior High School
URL;VALUE=URI:https://www.starkvillesd.com/the-partnership-school/calendar/
 7110261/winter-concert-partnership-armstrong-bands
DTSTART:20241210T000000Z
DTEND:20241210T020000Z
END:VEVENT
END:VCALENDAR
