BEGIN:VCALENDAR
VERSION:2.0
PRODID:SchoolNow
CALSCALE:GREGORIAN
BEGIN:VEVENT
UID:99c41442-cd1e-11ef-93a8-0a58a9feac02
DTSTAMP:20250107T174118Z
SUMMARY:Little Miss Yellow Jacket Pageants: Registration Deadline
URL;VALUE=URI:https://www.starkvillesd.com/the-partnership-school/calendar/
 7281385/little-miss-yellow-jacket-pageants-registration-deadline
DTSTART;VALUE=DATE:20250117
DTEND;VALUE=DATE:20250118
END:VEVENT
END:VCALENDAR
