BEGIN:VCALENDAR
VERSION:2.0
PRODID:SchoolNow
CALSCALE:GREGORIAN
BEGIN:VEVENT
UID:eb84f38c-10df-11f0-89fe-0a58a9feac02
DTSTAMP:20250403T230445Z
SUMMARY:Jacket Volleyball: Middle School Tryouts
URL;VALUE=URI:https://www.starkvillesd.com/the-partnership-school/calendar/
 7843752/starkville-middle-school-volleyball-tryouts
DTSTART:20250414T213000Z
DTEND:20250414T233000Z
END:VEVENT
END:VCALENDAR
