BEGIN:VCALENDAR
VERSION:2.0
PRODID:SchoolNow
CALSCALE:GREGORIAN
BEGIN:VEVENT
UID:8988ab7e-2142-11f0-b664-02dc256d4329
DTSTAMP:20250424T193010Z
SUMMARY:Jacket Girls Basketball Tryouts: 7th Grade
DESCRIPTION:Jacket Basketball Tryouts: Girls 7th\n(for rising 7th grade gir
 ls)\nMay 5-7\n4:00pm - 5:30pm\nArmstrong Gym\n\nMust have physical updated
  in Dragonfly to tryout.
LOCATION:Armstrong Gym
URL;VALUE=URI:https://www.starkvillesd.com/the-partnership-school/calendar/
 8000823/jacket-girls-basketball-tryouts-7th-grade
DTSTART:20250505T210000Z
DTEND:20250505T223000Z
END:VEVENT
END:VCALENDAR
