BEGIN:VCALENDAR
VERSION:2.0
PRODID:SchoolNow
CALSCALE:GREGORIAN
BEGIN:VEVENT
UID:3d9bc248-214a-11f0-9203-0a58a9feac02
DTSTAMP:20250424T202519Z
SUMMARY:Jacket Boys Basketball Tryouts: 8th Grade
DESCRIPTION:Jacket Basketball Tryouts: Boys 8th\n(for rising 8th grade boys
 )\nMay 8-9\n4:30pm - 6:00pm\nArmstrong Gym\n\nMust have physical updated i
 n Dragonfly to tryout. Wear basketball shoes\, shorts\, and t-shirt.
LOCATION:Armstrong Gym
URL;VALUE=URI:https://www.starkvillesd.com/the-partnership-school/calendar/
 8001013/jacket-boys-basketball-tryouts-8th-grade
DTSTART:20250508T213000Z
DTEND:20250508T230000Z
END:VEVENT
END:VCALENDAR
