BEGIN:VCALENDAR
VERSION:2.0
PRODID:SchoolNow
CALSCALE:GREGORIAN
BEGIN:VEVENT
UID:7e3dd610-214a-11f0-917e-0a58a9feac02
DTSTAMP:20250424T202707Z
SUMMARY:Jacket Boys Basketball Tryouts: 8th Grade
DESCRIPTION:Jacket Basketball Tryouts: Boys 8th\n(for rising 8th grade boys
 )\nMay 8-9\n4:30pm - 6:00pm\nArmstrong Gym\n\nMust have physical updated i
 n Dragonfly to tryout. Wear basketball shoes\, shorts\, and t-shirt.
LOCATION:Armstrong Gym
URL;VALUE=URI:https://www.starkvillesd.com/the-partnership-school/calendar/
 8001038/jacket-boys-basketball-tryouts-8th-grade-clone
DTSTART:20250509T213000Z
DTEND:20250509T230000Z
END:VEVENT
END:VCALENDAR
