BEGIN:VCALENDAR
VERSION:2.0
PRODID:SchoolNow
CALSCALE:GREGORIAN
BEGIN:VEVENT
UID:aec92144-214b-11f0-b9f4-029e3877d669
DTSTAMP:20250424T203538Z
SUMMARY:Jacket Boys Basketball Tryouts: 7th Grade
DESCRIPTION:Jacket Basketball Tryouts: Boys 7th\n(for rising 7th grade boys
 )\nMay 12-13\n4:30pm - 6:00pm\nArmstrong Gym\n\nMust have physical updated
  in Dragonfly to tryout. Wear basketball shoes\, shorts\, and t-shirt. Any
  questions email Coach Rodriguez: rrodriguez@starkvillesd.com
LOCATION:Armstrong Gym
URL;VALUE=URI:https://www.starkvillesd.com/the-partnership-school/calendar/
 8001044/jacket-boys-basketball-tryouts-7th-grade-clone
DTSTART:20250513T213000Z
DTEND:20250513T230000Z
END:VEVENT
END:VCALENDAR
