BEGIN:VCALENDAR
VERSION:2.0
PRODID:SchoolNow
CALSCALE:GREGORIAN
BEGIN:VEVENT
UID:d93a50dc-2151-11f0-9763-0ebee07da5cb
DTSTAMP:20250424T211946Z
SUMMARY:Jacket Cross Country: Interest Meeting for 2025-2026 (rising 7th-12
 th graders)
DESCRIPTION:Jacket Cross Country Interest Meeting: Boys and Girls\n(for ris
 ing 7th-12th graders)\nMay 19\n5:30pm\nAthletic Complex Meeting Room
LOCATION:Athletic Complex Meeting Room
URL;VALUE=URI:https://www.starkvillesd.com/the-partnership-school/calendar/
 8001109/jacket-cross-country-interest-meeting-for-2025-2026-rising-7th-12t
 h-graders
DTSTART:20250519T223000Z
DTEND:20250519T233000Z
END:VEVENT
END:VCALENDAR
