BEGIN:VCALENDAR
VERSION:2.0
PRODID:SchoolNow
CALSCALE:GREGORIAN
BEGIN:VEVENT
UID:8d44d58a-5766-11f0-9d85-0a58a9feac02
DTSTAMP:20250702T170401Z
SUMMARY:Partnership: 2025-2026 Schedule Pickup -- 6th Grade
DESCRIPTION:Friday\, July 11\, 2025\nSchedule Pickup\n6th Grade: 9:00am - 1
 1:00am\n7th Grade: 1:00pm - 3:00pm
LOCATION:Partnership Middle School
URL;VALUE=URI:https://www.starkvillesd.com/the-partnership-school/calendar/
 8377576/partnership-2025-2026-schedule-pickup-6th-grade
DTSTART:20250711T140000Z
DTEND:20250711T160000Z
END:VEVENT
END:VCALENDAR
