BEGIN:VCALENDAR
VERSION:2.0
PRODID:SchoolNow
CALSCALE:GREGORIAN
BEGIN:VEVENT
UID:a864823e-5766-11f0-914e-026e14ecddaf
DTSTAMP:20250702T170447Z
SUMMARY:Partnership: 2025-2026 Schedule Pickup -- 7th Grade
DESCRIPTION:Friday\, July 11\, 2025\nSchedule Pickup\n6th Grade: 9:00am - 1
 1:00am\n7th Grade: 1:00pm - 3:00pm
LOCATION:Partnership Middle School
URL;VALUE=URI:https://www.starkvillesd.com/the-partnership-school/calendar/
 8377594/partnership-2025-2026-schedule-pickup-7th-grade
DTSTART:20250711T180000Z
DTEND:20250711T200000Z
END:VEVENT
END:VCALENDAR
