BEGIN:VCALENDAR
VERSION:2.0
PRODID:SchoolNow
CALSCALE:GREGORIAN
BEGIN:VEVENT
UID:f52c50ba-5766-11f0-9a79-0a58a9feac02
DTSTAMP:20250702T170656Z
SUMMARY:Partnership: 2025-2026  Open House
DESCRIPTION:Thursday\, July 17\, 2025\nOpen House\n7:30am - 1:00pm\n2:00pm 
 - 3:30pm
LOCATION:Partnership Middle School
URL;VALUE=URI:https://www.starkvillesd.com/the-partnership-school/calendar/
 8377600/partnership-2025-2026-open-house-clone
DTSTART:20250717T190000Z
DTEND:20250717T203000Z
END:VEVENT
END:VCALENDAR
