BEGIN:VCALENDAR
VERSION:2.0
PRODID:SchoolNow
CALSCALE:GREGORIAN
BEGIN:VEVENT
UID:831b823c-aaba-11f0-9ff4-0affe61be745
DTSTAMP:20251016T180408Z
SUMMARY:Jacket Wrestling: Tryouts (for 7th-12th grade boys and girls)
DESCRIPTION:UPCOMING ATHLETIC TRYOUTS...
LOCATION:Partnership Middle School Gym
URL;VALUE=URI:https://www.starkvillesd.com/the-partnership-school/calendar/
 8727596/jacket-wrestling-tryouts-for-7th-12th-grade-boys-and-girls2
DTSTART:20251021T220000Z
DTEND:20251021T233000Z
END:VEVENT
END:VCALENDAR
