BEGIN:VCALENDAR
VERSION:2.0
PRODID:SchoolNow
CALSCALE:GREGORIAN
BEGIN:VEVENT
UID:bde214d6-f235-11f0-be94-0a58a9feac02
DTSTAMP:20260115T171508Z
SUMMARY:Miss Yellow Jacket Pageants (Partnership & Armstrong)
LOCATION:Greensboro Auditorium
URL;VALUE=URI:https://www.starkvillesd.com/the-partnership-school/calendar/
 8836683/miss-yellow-jacket-pageants-partnership-armstrong
DTSTART:20260214T203000Z
DTEND:20260214T223000Z
END:VEVENT
END:VCALENDAR
