BEGIN:VCALENDAR
VERSION:2.0
PRODID:SchoolNow
CALSCALE:GREGORIAN
BEGIN:VEVENT
UID:35465a70-3447-11f1-9cc5-0a58a9feac02
DTSTAMP:20260409T190626Z
SUMMARY:Tryouts: Jacket Archery (for 7th-12th graders)
LOCATION:HWS Gym
URL;VALUE=URI:https://www.starkvillesd.com/the-partnership-school/calendar/
 8982404/tryouts-jacket-archery-for-7th-12th-graders-clone
DTSTART:20260909T213000Z
DTEND:20260909T230000Z
END:VEVENT
END:VCALENDAR
