BEGIN:VCALENDAR
VERSION:2.0
PRODID:SchoolNow
CALSCALE:GREGORIAN
BEGIN:VEVENT
UID:8ea199c0-3458-11f1-b5b8-02f8b85aa643
DTSTAMP:20260409T211037Z
SUMMARY:Tryouts: Girls Junior High Outdoor Track & Field (for 7th-8th grade
 rs)
LOCATION:Starkville High School
URL;VALUE=URI:https://www.starkvillesd.com/the-partnership-school/calendar/
 8982569/tryouts-girls-junior-high-outdoor-track-field-for-7th-8th-graders
DTSTART:20270121T220000Z
DTEND:20270122T000000Z
END:VEVENT
END:VCALENDAR
