BEGIN:VCALENDAR
VERSION:2.0
PRODID:SchoolNow
CALSCALE:GREGORIAN
BEGIN:VEVENT
UID:62228c4a-54a2-11ed-b75c-0a6a5193f519
DTSTAMP:20221025T201952Z
SUMMARY:West Elementary Veterans Day Program
LOCATION:West Elementary Gym
URL;VALUE=URI:https://www.starkvillesd.com/west-elementary/calendar/3559615
 /west-elementary-veterans-day-program
DTSTART:20221111T160000Z
DTEND:20221111T170000Z
END:VEVENT
END:VCALENDAR
