BEGIN:VCALENDAR
VERSION:2.0
PRODID:SchoolNow
CALSCALE:GREGORIAN
BEGIN:VEVENT
UID:7d4d7b64-8dfb-11ed-b4e8-0e8068b5edc9
DTSTAMP:20230106T195119Z
SUMMARY:PreK Registration: Sudduth & West Elementary
URL;VALUE=URI:https://www.starkvillesd.com/west-elementary/calendar/3657331
 /prek-registration-sudduth-west-elementary
DTSTART:20230207T150000Z
DTEND:20230207T190000Z
END:VEVENT
END:VCALENDAR
