BEGIN:VCALENDAR
VERSION:2.0
PRODID:SchoolNow
CALSCALE:GREGORIAN
BEGIN:VEVENT
UID:b110b97a-8dfb-11ed-b8c8-0e8068b5edc9
DTSTAMP:20230106T195246Z
SUMMARY:PreK Registration: Sudduth & West Elementary
URL;VALUE=URI:https://www.starkvillesd.com/west-elementary/calendar/3657334
 /prek-registration-sudduth-west-elementary
DTSTART:20230208T150000Z
DTEND:20230208T190000Z
END:VEVENT
END:VCALENDAR
