BEGIN:VCALENDAR
VERSION:2.0
PRODID:SchoolNow
CALSCALE:GREGORIAN
BEGIN:VEVENT
UID:ef0f200e-8dfb-11ed-86f0-0e8068b5edc9
DTSTAMP:20230106T195430Z
SUMMARY:PreK Registration: Sudduth & West Elementary
URL;VALUE=URI:https://www.starkvillesd.com/west-elementary/calendar/3657337
 /prek-registration-sudduth-west-elementary
DTSTART:20230209T150000Z
DTEND:20230209T190000Z
END:VEVENT
END:VCALENDAR
