BEGIN:VCALENDAR
VERSION:2.0
PRODID:SchoolNow
CALSCALE:GREGORIAN
BEGIN:VEVENT
UID:6c9e0986-9c52-11ed-b8ea-0e7c1a32f2dd
DTSTAMP:20230125T014854Z
SUMMARY:Kindergarten Open House: West Elementary
LOCATION:West Elementary School
URL;VALUE=URI:https://www.starkvillesd.com/west-elementary/calendar/3688456
 /kindergarten-open-house-west-elementary
DTSTART:20230307T220000Z
DTEND:20230307T233000Z
END:VEVENT
END:VCALENDAR
